8.000000000
0.000000
0.000000
-8.000000000
517498.08675389
150158.35534214
