8.000000000
0.000000
0.000000
-8.000000000
517184.63423277
151129.69711312
