8.000000000
0.000000
0.000000
-8.000000000
517191.88763076
151145.96626849
