8.000000000
0.000000
0.000000
-8.000000000
517173.77729050
151146.82637724
