8.000000000
0.000000
0.000000
-8.000000000
514820.78959735
153241.88655127
