8.000000000
0.000000
0.000000
-8.000000000
514821.71066650
153215.93457485
