8.000000000
0.000000
0.000000
-8.000000000
514806.78601360
153215.52269686
