8.000000000
0.000000
0.000000
-8.000000000
514805.65247589
153210.59750778
