8.000000000
0.000000
0.000000
-8.000000000
514809.61573816
153219.80690219
