8.000000000
0.000000
0.000000
-8.000000000
514778.54604895
151383.49134947
