8.000000000
0.000000
0.000000
-8.000000000
514768.32722033
151399.99860928
