8.000000000
0.000000
0.000000
-8.000000000
514771.40530317
151391.30978352
