8.000000000
0.000000
0.000000
-8.000000000
514768.84313815
151190.00786039
