8.000000000
0.000000
0.000000
-8.000000000
514785.86640600
151172.17162008
