8.000000000
0.000000
0.000000
-8.000000000
514792.47898601
151156.94930661
