8.000000000
0.000000
0.000000
-8.000000000
514775.84401444
151156.56101183
