8.000000000
0.000000
0.000000
-8.000000000
514772.75336815
151148.88363595
