8.000000000
0.000000
0.000000
-8.000000000
514772.12240095
151149.50993338
