8.000000000
0.000000
0.000000
-8.000000000
514787.87921844
151148.05752650
