8.000000000
0.000000
0.000000
-8.000000000
514950.07491231
151020.45154482
