8.000000000
0.000000
0.000000
-8.000000000
514949.89572645
151022.92440286
