8.000000000
0.000000
0.000000
-8.000000000
514954.15132991
151006.80830616
