8.000000000
0.000000
0.000000
-8.000000000
515694.45173918
151026.31420332
