8.000000000
0.000000
0.000000
-8.000000000
515693.16433397
151025.71415973
