8.000000000
0.000000
0.000000
-8.000000000
515691.86276661
151008.43918437
