8.000000000
0.000000
0.000000
-8.000000000
515783.72569640
150192.26879433
