8.000000000
0.000000
0.000000
-8.000000000
515791.91533480
150198.64202686
