8.000000000
0.000000
0.000000
-8.000000000
515792.55911863
150198.94205842
