8.000000000
0.000000
0.000000
-8.000000000
515861.87877850
149589.04962996
