8.000000000
0.000000
0.000000
-8.000000000
515860.37787608
149588.45245385
