8.000000000
0.000000
0.000000
-8.000000000
515853.12119464
149603.68225311
