8.000000000
0.000000
0.000000
-8.000000000
515181.65557939
149608.84055622
