8.000000000
0.000000
0.000000
-8.000000000
515175.30151230
149612.01568900
