8.000000000
0.000000
0.000000
-8.000000000
515183.08032419
149603.88024920
