8.000000000
0.000000
0.000000
-8.000000000
515703.65710543
148729.35128017
