8.000000000
0.000000
0.000000
-8.000000000
515702.85461802
148733.06777860
