8.000000000
0.000000
0.000000
-8.000000000
515698.36806777
148732.51133064
