8.000000000
0.000000
0.000000
-8.000000000
515697.09701638
148733.14624764
