8.000000000
0.000000
0.000000
-8.000000000
515589.95792682
148790.49965818
