8.000000000
0.000000
0.000000
-8.000000000
515593.91004700
148798.78324280
