8.000000000
0.000000
0.000000
-8.000000000
515586.86041365
148797.95305751
