8.000000000
0.000000
0.000000
-8.000000000
514911.40245124
149294.49140661
