8.000000000
0.000000
0.000000
-8.000000000
514908.42155126
149294.84122045
