8.000000000
0.000000
0.000000
-8.000000000
514897.10363872
149293.76177257
