8.000000000
0.000000
0.000000
-8.000000000
514901.99506579
149292.76806669
