8.000000000
0.000000
0.000000
-8.000000000
514710.35069141
149190.41699304
