8.000000000
0.000000
0.000000
-8.000000000
514711.86458144
149191.94010280
