8.000000000
0.000000
0.000000
-8.000000000
514712.36342549
149197.18278651
