8.000000000
0.000000
0.000000
-8.000000000
513863.24559370
149236.43584855
