8.000000000
0.000000
0.000000
-8.000000000
513861.53117615
149235.84213564
